BEGIN:VCALENDAR
VERSION:2.0
PRODID:-//SRMRT - ECPv6.15.20//NONSGML v1.0//EN
CALSCALE:GREGORIAN
METHOD:PUBLISH
X-WR-CALNAME:SRMRT
X-ORIGINAL-URL:https://www.srmrt.org.uk
X-WR-CALDESC:Events for SRMRT
REFRESH-INTERVAL;VALUE=DURATION:PT1H
X-Robots-Tag:noindex
X-PUBLISHED-TTL:PT1H
BEGIN:VTIMEZONE
TZID:Europe/London
BEGIN:DAYLIGHT
TZOFFSETFROM:+0000
TZOFFSETTO:+0100
TZNAME:BST
DTSTART:20240331T010000
END:DAYLIGHT
BEGIN:STANDARD
TZOFFSETFROM:+0100
TZOFFSETTO:+0000
TZNAME:GMT
DTSTART:20241027T010000
END:STANDARD
BEGIN:DAYLIGHT
TZOFFSETFROM:+0000
TZOFFSETTO:+0100
TZNAME:BST
DTSTART:20250330T010000
END:DAYLIGHT
BEGIN:STANDARD
TZOFFSETFROM:+0100
TZOFFSETTO:+0000
TZNAME:GMT
DTSTART:20251026T010000
END:STANDARD
BEGIN:DAYLIGHT
TZOFFSETFROM:+0000
TZOFFSETTO:+0100
TZNAME:BST
DTSTART:20260329T010000
END:DAYLIGHT
BEGIN:STANDARD
TZOFFSETFROM:+0100
TZOFFSETTO:+0000
TZNAME:GMT
DTSTART:20261025T010000
END:STANDARD
BEGIN:DAYLIGHT
TZOFFSETFROM:+0000
TZOFFSETTO:+0100
TZNAME:BST
DTSTART:20270328T010000
END:DAYLIGHT
BEGIN:STANDARD
TZOFFSETFROM:+0100
TZOFFSETTO:+0000
TZNAME:GMT
DTSTART:20271031T010000
END:STANDARD
END:VTIMEZONE
BEGIN:VEVENT
DTSTART;TZID=Europe/London:20260220T193000
DTEND;TZID=Europe/London:20260220T220000
DTSTAMP:20260421T223452
CREATED:20251220T170221Z
LAST-MODIFIED:20260111T173454Z
UID:15036-1771615800-1771624800@www.srmrt.org.uk
SUMMARY:Summit Stories
DESCRIPTION:Event Information \n\n\n\nJoin us for an inspiring evening of off-piste adventure\, celebrating the spirit of exploration across ski mountaineering\, climbing and mountain biking. The programme features breathtaking short films created by elite athletes and filmmakers from around the world\, showcasing raw landscapes\, bold lines and stories that will stay with you long after the credits roll. \n\n\n\n\n\n\n\nFilm Programme \n\n\n\n150 Hours From Home – Faction CollectiveSkiing was born here. For thousands of years\, nomadic herders in Mongolia’s Altai Mountains crossed vast peaks and plains on wooden skis—long before the modern sport existed.In this latest Faction feature film\, the team traces skiing back to its origins\, travelling 150 hours from home into the heart of the Altai to reconnect with where it all began. \n\n\n\n10 in a Weekend – Blair Aitken (British Backcountry)A bold Scottish mountaineering challenge to hike\, ski and showcase the UK’s ten highest mountains in a single weekend.Blair Aitken\, alongside Gavin Carruthers and George Treble\, tackle some of Scotland’s finest ski descents in a race against the clock—aiming to complete the journey and return to Edinburgh in time for work on Monday morning. \n\n\n\nWorth It Every TimeA distinctly Scottish ski film celebrating resilience\, local talent and the determination required to ski in conditions that are rarely perfect. Rather than endless powder days\, this film captures the “bloody-mindedness” that defines Scottish skiing and the unique rewards that keep people coming back season after season. \n\n\n\nDolomites – CommencalAfter fifteen years of experience\, Kilian Bron takes on the most exposed and demanding lines of Italy’s Dolomites.This film offers an inside look at the dedication\, trust and preparation required for high-alpine mountain biking at its most extreme\, while reflecting on the friendships and connections formed along the way. Dolomites marks the beginning of a new trilogy\, with future adventures leading into the mountains of Nepal. \n\n\n\nThe Last Forgotten ArtIs crack climbing the last forgotten art?This beautifully shot film explores the creativity\, commitment and physicality required to master off-width climbing—where hand jams\, chicken wings\, wedged knees and full-body wriggles are all part of the challenge. Following climbers Mel\, Vicky and Steve at Ramshaw Rocks in the Peak District\, the film celebrates a niche but passionate corner of the climbing world. Directed and produced by award-winning filmmaker Jessie Leong\, The Last Forgotten Art is a story of connection—to self\, to nature and to the bonds formed through sharing a rope. \n\n\n\n\n\n\n\nThis curated collection of films is presented in collaboration with the filmmakers and producers to raise vital funds for Scarborough and Ryedale Mountain Rescue Team. The team not only supports local adventurers when things go wrong\, but also carries out day-to-day searches and rescues away from the beaten track. \n\n\n\nTo mark the occasion and support the team\, there will be an exciting raffle on the night\, with prizes generously donated by the film producers and local supportive businesses. Prizes include a brand-new pair of Faction Dancer skis\, merchandise\, signed books\, meal and activity vouchers\, and much more. \n\n\n\n\nTickets available here
URL:https://www.srmrt.org.uk/event/summit-stories/
LOCATION:Kirk theatre\, Pickering\, Hungate\, Pickering\, North Yorkshire\, YO18 7DL\, United Kingdom
ATTACH;FMTTYPE=image/png:https://www.srmrt.org.uk/wp-content/uploads/2025/12/SUMMIT-STORIES-BANNER-2-scaled.png
END:VEVENT
BEGIN:VEVENT
DTSTART;TZID=Europe/London:20251109T110200
DTEND;TZID=Europe/London:20251109T130000
DTSTAMP:20260421T223452
CREATED:20250126T143527Z
LAST-MODIFIED:20251116T102944Z
UID:12999-1762686120-1762693200@www.srmrt.org.uk
SUMMARY:The Dalby Dash 10k 2025
DESCRIPTION: \nThe Dalby Dash 10k 2025\nRemembrance Sunday 9th November at 11.02am\nIn remembrance of our service men & women. A beautiful run on Tarmac & hard trails\, in association with Pickering Running Club\n\n(Remembrance Sunday\, 2 minute’s silence before start)\n\nSupporting service veterans\, Pickering Rotary Club (Reg. No. 1026500) and Scarborough & Ryedale Mountain Rescue Team\n\nWhat a wonderful day we had at the 2024 Dalby Dash. YOU managed to raise £6000 for our wonderful charities !!! The atmosphere was amazing and everyone was so positive. Our team of volunteers (including friends and marshals coordinated by Sharon Lynn) did us proud. Pickering Rotary were out in force and Scarborough Rescue (SRMRT) kept everyone safe. This is a friendly trail run with a fantastic memento to all finishers\, run by volunteers. Trail Running Magazine listed the Dalby Dash as one of the most beautiful races in Britain – who are we to argue?\n\nThe 2025 Dalby Dash represents great value and you’ll now have your time recorded electronically !!! ALL your entry fee goes to organising the race and raising money for our charities – Service Veterans\, Pickering Rotarians (who donate their share to North Yorkshire charities) & SRMRT. The entry is £18 for EA Club members and £20 for non-Club runners (plus booking fees). We pay the entry toll into the forest for your car (unfortunately this cost to us has risen considerably in 2024). Please bring family at no extra cost and spend the day in the forest! PLUS you receive a great memento at the end!!!\n\nThe race starts outside the beautiful Visitor’s Centre and you run up a firm Tarmac road (Housedale) to the top of the only hill in the race (a steady slope!) – First man and woman to the top gets a special prize. Then along the top of the rigg on gravel trails and a long and speedy decent down to the beck. Then a ‘DASH’ to the finish line back at Low Dalby.\n\nNOTE : All transfers are processed through bookitzone\, not the organisers. There are absolutely no deferrals to the following year and no transfers after 30th October.\n\n \n\nP R I Z E S\n\nAll Finishers Get Special Commemorative Prize!\nFirst 5 men\, First 5 women\, First 2 Vets (in age catagories up to 70+ years) both sexes\nPlus First Local man & woman (YO18 code)\, Plus ‘King (& Queen) of the Hill’ prize to first up House Dale\nPrizes will be posted once again\, to ensure your safety & the safety of the volunteers.
URL:https://www.srmrt.org.uk/event/the-dalby-dash-10k-2025/
LOCATION:Dalby Forest\, Thornton le Dale\, Pickering\, North Yorkshire\, YO18 7LT\, United Kingdom
CATEGORIES:Challenge Event,Fundraiser
ATTACH;FMTTYPE=image/jpeg:https://www.srmrt.org.uk/wp-content/uploads/2025/09/470182187_985020690326508_3510611491868352565_n-2-2.jpg
END:VEVENT
BEGIN:VEVENT
DTSTART;TZID=Europe/London:20251108T090000
DTEND;TZID=Europe/London:20251108T150000
DTSTAMP:20260421T223452
CREATED:20251012T075335Z
LAST-MODIFIED:20251019T082243Z
UID:14615-1762592400-1762614000@www.srmrt.org.uk
SUMMARY:Forge Valley Roaster Community Event
DESCRIPTION:Forge Valley Roasters Community Event.\n \nWe’ve been proud to partner with Forge Valley Roasters throughout our 60th Anniversary year — and to celebrate\, we’ll be joining them at The Kitchen for a special event! \nFVR have been supporting the team all year through their limited-edition Mountain Blend coffee\, with 10% of sales going directly to help us continue our life-saving work across the North York Moors. As the blend comes to an end\, they’ve invited us along for a day where you can: \n\n\n 	Meet members of the team and learn more about what we do\n 	See some of our specialist rescue equipment up close\n 	Let the kids explore and get hands-on with some of our kit\n 	And\, of course\, enjoy plenty of Mountain Blend coffee!\n\nIt’s a brilliant chance to chat with our volunteers\, discover more about mountain rescue\, and celebrate a fantastic local partnership over a great cup of coffee. \nWe hope to see you there!
URL:https://www.srmrt.org.uk/event/forge-valley-roaster-community-event/
LOCATION:YO139BP\, UNIT 2\, THE HILLYARD\, WYKEHAM\, YO139BP\, United Kingdom
CATEGORIES:Meet the team
ATTACH;FMTTYPE=image/jpeg:https://www.srmrt.org.uk/wp-content/uploads/2025/10/event_35281759818316504.jpg
END:VEVENT
BEGIN:VEVENT
DTSTART;TZID=Europe/London:20250802T090000
DTEND;TZID=Europe/London:20250802T170000
DTSTAMP:20260421T223452
CREATED:20250728T195401Z
LAST-MODIFIED:20251021T193721Z
UID:13093-1754125200-1754154000@www.srmrt.org.uk
SUMMARY:SRMRT 60th Year Diamond Anniversary Event
DESCRIPTION:Why not come along to Dalby forest this coming Saturday to see what we do.\n\nFrom 09:00 team members and vehicles will be at the Visitor Centre.
URL:https://www.srmrt.org.uk/event/srmrt-60th-year-diamond-anniversary-event/
LOCATION:North Yorkshire
END:VEVENT
BEGIN:VEVENT
DTSTART;TZID=Europe/London:20250607T090000
DTEND;TZID=Europe/London:20250607T210000
DTSTAMP:20260421T223452
CREATED:20250126T144508Z
LAST-MODIFIED:20250126T144615Z
UID:13005-1749286800-1749330000@www.srmrt.org.uk
SUMMARY:DALBY's INFERNO 2025
DESCRIPTION:DALBY’s INFERNO and the 12 circles of suffering. Yes\, 12 circles! \nNow in its 4th year this superb event is going from strength to strength. \nA back-yard style ultra marathon which usually consists of 10 5k laps starting and finishing at the same location. \nThis year however\, there will be 12 laps of 5km making 60km in total. \n2025 marks the 60th Anniversary of Scarborough and Ryedale Mountain Rescue Team\, so to help celebrate this achievement we decided to make the total distance 60km. \n“Fantastic event\, really well organised. Enjoyed the challenging & varied route & the support from all the marshalls was much appreciated as was the superb soundtrack. Will definitely be back next year. Thanks to everyone involved in hosting” \n“First ‘ultra’ distance event for me. Great event with brilliant organisation. Thanks to all involved. Didn’t know what to expect or how it would go. Lots of great chat on loops 1-9. Highly recommend this event; I’ll be back” \nThis event will sell out very quickly\, so… \nAre you prepared for the burn…? \n\nA 5km forest loop.\nStarting on the hour.\nEvery hour.\nFor twelve hours.\n\nIn the forest depths \nhow long can you go \nbefore time catches you? \nAre you ready for the Roots of all evil? \nCan you handle No Worries hill? \nThis is an event for all levels of fitness – one in which you can really challenge yourself to go further than you normally would\, whether you’d be aiming for two laps or all ten. \n  \nLast year over 80% of runners completed all 10 laps. \nAnd if you’ve ever wanted to own the kudos of an ultra marathon\, then this is your chance to try in a supportive setting – managing all 12 laps is 60km; an ultra is anything over 42.195km… \nThe fee includes entry to the event\, free entry into Dalby Forest (usually £10 per vehicle)\, plus two nights camping on the Fri and Sat night – and you’re welcome to bring a friend or your family along too to support you (they can camp too). It’s designed to be both social and challenging\, and a great outdoor adventure weekend to look forward to! \n  \nRace format \n\nBased in Dalby Forest\, this race follows a beautiful\, not-exactly-flat (109m ascent) 5km trail loop through the forest.\nOnce the start gun goes off\, you have one hour to complete the lap.\nIf you manage\, you can start the next lap\, which sets off exactly on the hour again.\nIf you don’t manage\, you sit out the next lap\, but can still start again on any following ones after that\, up to and including the eleventh lap.\nIf you manage all eleven laps\, you gain entry to the twelfth and final lap.  The ultimate burn\, in this final lap you’ll be racing\, legs on fire\, for a finish in a blaze of glory…\n\nHow many times can you endure the circle of suffering? \nIncluded in the entry fee you get free entry to the forest\, free camping at Adderstone on Friday and Saturday night (toilets/fresh water at site\, no showers). \nCamping is same location as start/finish. \nWe have an area at the Start/Finish for you to relax and refuel between laps. It is large enough to erect a small shelter and you can bring a friend to support you. \nNO BBQ’S. \nThe route will not be published before the day of the event – fully signed and marshalled on the day. \nStart time – 9am\, strictly. \nRegistration on Friday night from 6pm to 9pm or Saturday morning from 7am to 8.30am. \nFree camping in the same field as start on Friday and Saturday night. Approx 100m from start. We will have \nhard standing for campervans. \nHot food and drinks available to buy on the day. Fresh water available. \nChance to pre-buy an event tech T-shirt at £20 when entering online. NO T shirts to buy at the event. \nSee T shirt design in banner. This is only available when you pre-order. 2025 design complete with exclusive Team 60th Anniversary logo. \nSpecial 60th Anniversary gift for ALL competitors. \nMinimum age is 16 years \nNo dogs allowed on the run. (they are welcome to camp IF well controlled) \nNo deferrals or refunds.
URL:https://www.srmrt.org.uk/event/dalbys-inferno-2025/
LOCATION:Dalby Forest\, Thornton le Dale\, Pickering\, North Yorkshire\, YO18 7LT\, United Kingdom
ORGANIZER;CN="Neil Armstrong":MAILTO:challenge.events@srmrt.org.uk
END:VEVENT
END:VCALENDAR