BEGIN:VCALENDAR
VERSION:2.0
PRODID:-//SRMRT - ECPv6.15.20//NONSGML v1.0//EN
CALSCALE:GREGORIAN
METHOD:PUBLISH
X-ORIGINAL-URL:https://www.srmrt.org.uk
X-WR-CALDESC:Events for SRMRT
REFRESH-INTERVAL;VALUE=DURATION:PT1H
X-Robots-Tag:noindex
X-PUBLISHED-TTL:PT1H
BEGIN:VTIMEZONE
TZID:Europe/London
BEGIN:DAYLIGHT
TZOFFSETFROM:+0000
TZOFFSETTO:+0100
TZNAME:BST
DTSTART:20250330T010000
END:DAYLIGHT
BEGIN:STANDARD
TZOFFSETFROM:+0100
TZOFFSETTO:+0000
TZNAME:GMT
DTSTART:20251026T010000
END:STANDARD
BEGIN:DAYLIGHT
TZOFFSETFROM:+0000
TZOFFSETTO:+0100
TZNAME:BST
DTSTART:20260329T010000
END:DAYLIGHT
BEGIN:STANDARD
TZOFFSETFROM:+0100
TZOFFSETTO:+0000
TZNAME:GMT
DTSTART:20261025T010000
END:STANDARD
BEGIN:DAYLIGHT
TZOFFSETFROM:+0000
TZOFFSETTO:+0100
TZNAME:BST
DTSTART:20270328T010000
END:DAYLIGHT
BEGIN:STANDARD
TZOFFSETFROM:+0100
TZOFFSETTO:+0000
TZNAME:GMT
DTSTART:20271031T010000
END:STANDARD
END:VTIMEZONE
BEGIN:VEVENT
DTSTART;TZID=Europe/London:20260606T090000
DTEND;TZID=Europe/London:20260606T210000
DTSTAMP:20260422T005023
CREATED:20260111T174712Z
LAST-MODIFIED:20260111T175220Z
UID:15125-1780736400-1780779600@www.srmrt.org.uk
SUMMARY:Dalbys Inferno 2026
DESCRIPTION:The 10 Circles of Suffering \n\n\n\nNow in its 6th year\, Dalby’s Inferno continues to grow in reputation as one of the most memorable — and addictive — endurance events in the calendar. \n\n\n\nThis is a backyard-style ultra marathon set deep within Dalby Forest\, built around a deceptively simple concept:ten laps\, ten hours\, one relentless loop. \n\n\n\nFor 2026\, the route has been modified to increase the distance\, making the challenge even tougher for those brave enough to take it on. \n\n\n\n\n\n\n\nThe Challenge\n\n\n\n\n5.5km forest loop\n\n\n\nStart on the hour\, every hour\n\n\n\nUp to 10 laps\n\n\n\nTotal distance: 55km\n\n\n\n\nA lap must be completed within the hour to be eligible to start the next one. Miss the cut-off and you’ll sit out — but you can still re-join later laps\, right up to lap nine. Complete all nine and you earn your place on the tenth and final lap — the ultimate burn. \n\n\n\nHow long can you last…before time catches you? \n\n\n\nCan you face the Roots of All Evil?Can you handle No Worries Hill? \n\n\n\n\n\n\n\nFor Runners of All Abilities\n\n\n\nDalby’s Inferno is designed to be both inclusive and brutal. Whether your goal is two laps or all ten\, this event lets you push further than you thought possible. \n\n\n\nIn 2025\, over 80% of runners completed all ten laps.And if you’ve ever wanted to claim the kudos of an ultra marathon\, this is your chance — 55km comfortably qualifies. \n\n\n\nWhat’s Included\n\n\n\nYour entry fee includes: \n\n\n\n\nEntry to Dalby’s Inferno\n\n\n\nFree entry to Dalby Forest (normally £10 per vehicle)\n\n\n\nTwo nights of free camping (Friday & Saturday) at Adderstone\n\n\n\nCamping in the same field as the start/finish area\n\n\n\nHard standing available for campervans\n\n\n\nToilets and fresh water on site (no showers)\n\n\n\n\nOne tent or campervan per entry. Family and friends are welcome to camp and support you throughout the event. \n\n\n\nEvent Atmosphere\n\n\n\nThis is as much a social endurance weekend as it is a race. There’s space at the start/finish area to relax and refuel between laps\, erect a small shelter\, and soak up the atmosphere — with the support of fellow runners\, volunteers and a legendary soundtrack. \n\n\n\nHot food and drinks will be available to purchase on the day. \n\n\n\n\n\n\n\nRace Format\n\n\n\n\nLocation: Dalby Forest\n\n\n\nLoop: Fully signed and marshalled (route not published in advance)\n\n\n\nStart time: 9:00am sharp\n\n\n\n\nRegistration: \n\n\n\n\nFriday: 6:00pm – 9:00pm\n\n\n\nSaturday: 7:00am – 8:30am\n\n\n\n\nAdditional Information\n\n\n\n\nMinimum age: 16 years\n\n\n\nNo dogs allowed on the run (well-behaved dogs welcome in the campsite)\n\n\n\nNo BBQs permitted\n\n\n\nNo refunds or deferrals\n\n\n\n\n\n\n\n\nEvent T-Shirt\n\n\n\nA high-quality technical event T-shirt is available to pre-order only for £25 when entering online.Order cut-off: 03/05/26There will be no T-shirts available to buy on the day. \n\n\n\n\n\n\n\nRunner Feedback\n\n\n\n\n“Fantastic event\, really well organised. Enjoyed the challenging & varied route and the support from all the marshals was much appreciated.” \n\n\n\n\n\n“First ultra distance event for me. Brilliant organisation\, great atmosphere and I’ll definitely be back.” \n\n\n\n\n\n\n\n\n⚠️ This event will sell out quickly.Are you ready for the burn? \n\n\n\n\nEnter here
URL:https://www.srmrt.org.uk/event/dalbys-inferno-2026/
LOCATION:Dalby Forest\, Thornton le Dale\, Pickering\, North Yorkshire\, YO18 7LT\, United Kingdom
ATTACH;FMTTYPE=image/jpeg:https://www.srmrt.org.uk/wp-content/uploads/2026/01/607991354_1379813604155515_5001671187653963771_n.jpg
END:VEVENT
BEGIN:VEVENT
DTSTART;TZID=Europe/London:20261108T110200
DTEND;TZID=Europe/London:20261108T140000
DTSTAMP:20260422T005023
CREATED:20260111T171725Z
LAST-MODIFIED:20260111T173554Z
UID:15107-1794135720-1794146400@www.srmrt.org.uk
SUMMARY:Dalby Dash 10K 2026
DESCRIPTION:Remembrance Sunday – Sunday 8 November 2026Start time: 11:02am(Two-minute silence observed before the start) \n\n\n\nThe Dalby Dash 10K is a special Remembrance Sunday trail run held in honour of our service men and women. Set in the stunning surroundings of Dalby Forest\, the route combines smooth tarmac and well-maintained hard trails\, offering a beautiful and accessible course for runners of all abilities. \n\n\n\nThe event is delivered in association with Pickering Running Club and is proudly supported by Pickering Rotarians\, Veterans’ charity Rock2Recovery\, and Scarborough & Ryedale Mountain Rescue Team (SRMRT). \n\n\n\n\n\n\n\nA Proven\, Friendly Event\n\n\n\nThe 2025 Dalby Dash was a fantastic success\, raising an incredible £6\,000 for our supported charities. The atmosphere was positive and welcoming throughout the day\, made possible by an outstanding team of volunteers\, marshals and organisers—coordinated by Sharon Lynn—alongside the efforts of Pickering Rotary and SRMRT\, who ensured everyone stayed safe. \n\n\n\nThis is a friendly\, volunteer-run trail race\, with a great memento for every finisher. It’s no surprise that Trail Running Magazine listed the Dalby Dash as one of the most beautiful races in Britain. \n\n\n\nThe Route\n\n\n\nThe race starts outside the Dalby Forest Visitor Centre at Low Dalby. Runners head out along a firm tarmac climb up Housedale—the only significant hill on the course\, taken at a steady gradient. A special prize is awarded to the first male and female runners to reach the top. \n\n\n\nFrom there\, the route continues along the ridge on fast gravel trails\, before a long\, flowing descent down to the beck and a final “Dash” back to the finish line. \n\n\n\nEntry & Value\n\n\n\nThe Dalby Dash 2026 offers excellent value and includes electronic chip timing. \n\n\n\n\n£18 – England Athletics club members\n\n\n\n£20 – Non-club runners(plus booking fees)\n\n\n\n\nAll entry income goes directly towards organising the event and raising funds for our charities: \n\n\n\n\nPickering Rotarians (supporting North Yorkshire charities)\n\n\n\nRock2Recovery\n\n\n\nScarborough & Ryedale Mountain Rescue Team (SRMRT)\n\n\n\n\nYour entry also covers the forest car entry fee\, and runners are encouraged to bring family and friends at no extra cost to enjoy a day out in Dalby Forest. Every finisher will receive a commemorative memento. \n\n\n\nTransfers & Refunds\n\n\n\nPlease note that entries are non-refundable and non-deferrable. However\, you may transfer your place to another runner via BookitZone. All transfer requests must be completed by 11:00am on Friday 30 October 2026. \n\n\n\n\nEnter here
URL:https://www.srmrt.org.uk/event/dalby-dash-10k-2026/
LOCATION:Dalby Forest\, Thornton le Dale\, Pickering\, North Yorkshire\, YO18 7LT\, United Kingdom
ATTACH;FMTTYPE=image/jpeg:https://www.srmrt.org.uk/wp-content/uploads/2026/01/605757832_1380784487391760_4717618677246701119_n.jpg
END:VEVENT
END:VCALENDAR